BEGIN:VCALENDAR
VERSION:2.0
PRODID:-//Otalampi - ECPv6.15.20//NONSGML v1.0//EN
CALSCALE:GREGORIAN
METHOD:PUBLISH
X-WR-CALNAME:Otalampi
X-ORIGINAL-URL:https://www.otalampi.fi
X-WR-CALDESC:Tapahtumat Otalampi
REFRESH-INTERVAL;VALUE=DURATION:PT1H
X-Robots-Tag:noindex
X-PUBLISHED-TTL:PT1H
BEGIN:VTIMEZONE
TZID:UTC
BEGIN:STANDARD
TZOFFSETFROM:+0000
TZOFFSETTO:+0000
TZNAME:UTC
DTSTART:20250101T000000
END:STANDARD
END:VTIMEZONE
BEGIN:VEVENT
DTSTART;TZID=UTC:20260613T150000
DTEND;TZID=UTC:20260613T210000
DTSTAMP:20260421T090525
CREATED:20260401T160642Z
LAST-MODIFIED:20260401T160642Z
UID:820-1781362800-1781384400@www.otalampi.fi
SUMMARY:Sauna-päivä
DESCRIPTION:Avoimet kylät -päivän saunapäivä Otalammenrannalla.
URL:https://www.otalampi.fi/kalenteri/sauna-paiva/
END:VEVENT
BEGIN:VEVENT
DTSTART;TZID=UTC:20260622T100000
DTEND;TZID=UTC:20260622T140000
DTSTAMP:20260421T090525
CREATED:20260401T161410Z
LAST-MODIFIED:20260401T161430Z
UID:822-1782122400-1782136800@www.otalampi.fi
SUMMARY:Rantauimakoulu
DESCRIPTION:Otalammen rannalla 22.-26.6.
URL:https://www.otalampi.fi/kalenteri/rantauimakoulu/
END:VEVENT
END:VCALENDAR